BEGIN:VCALENDAR
VERSION:2.0
PRODID:-//Kiweb - ECPv6.15.20//NONSGML v1.0//EN
CALSCALE:GREGORIAN
METHOD:PUBLISH
X-WR-CALNAME:Kiweb
X-ORIGINAL-URL:https://kiweb.co.za
X-WR-CALDESC:Events for Kiweb
REFRESH-INTERVAL;VALUE=DURATION:PT1H
X-Robots-Tag:noindex
X-PUBLISHED-TTL:PT1H
BEGIN:VTIMEZONE
TZID:UTC
BEGIN:STANDARD
TZOFFSETFROM:+0000
TZOFFSETTO:+0000
TZNAME:UTC
DTSTART:20240101T000000
END:STANDARD
END:VTIMEZONE
BEGIN:VEVENT
DTSTART;TZID=UTC:20251113T080000
DTEND;TZID=UTC:20251114T153000
DTSTAMP:20260419T174817
CREATED:20250921T132857Z
LAST-MODIFIED:20250921T132857Z
UID:4665-1763020800-1763134200@kiweb.co.za
SUMMARY:Master Class for Executive Secretaries and PA’s 2025
DESCRIPTION:[vc_row][vc_column][vc_column_text] \nThis two-day programme is aimed at providing you with the essential skills\, knowledge and techniques to deal with internal and external stakeholders and be an excellent PA. Delegates will learn how to cope with situations with a better understanding of their roles and responsibilities in delivering professional service. The programme will be informational\, inspirational and practical to ensure that delegates go back to their work highly motivated and skilled to make themselves and the organisation proud. \n[/vc_column_text][/vc_column][/vc_row][vc_row][vc_column]			\n				\n							Location\n						\n		[vc_gmaps link=”#E-8_JTNDaWZyYW1lJTIwc3JjJTNEJTIyaHR0cHMlM0ElMkYlMkZ3d3cuZ29vZ2xlLmNvbSUyRm1hcHMlMkZlbWJlZCUzRnBiJTNEJTIxMW0xOCUyMTFtMTIlMjExbTMlMjExZDM1ODIuNzMwNTM2Nzc4NDI0JTIxMmQyOC4wNTYyMzU0NzUwNzk2OTIlMjEzZC0yNi4xMDc3MTM0NjAwNTA1MjMlMjEybTMlMjExZjAlMjEyZjAlMjEzZjAlMjEzbTIlMjExaTEwMjQlMjEyaTc2OCUyMTRmMTMuMSUyMTNtMyUyMTFtMiUyMTFzMHgxZTk1NzMyYjk4YjE2YTM1JTI1M0EweGRhN2Q0NDM3NThlMTM2MTYlMjEyc1JhZGlzc29uJTI1MjBCbHUlMjUyMEdhdXRyYWluJTI1MjBIb3RlbCUyNTJDJTI1MjBTYW5kdG9uJTI1MjBKb2hhbm5lc2J1cmclMjE1ZTAlMjEzbTIlMjExc2VuJTIxMnN6YSUyMTR2MTc1ODEwNTg0MTg2MyUyMTVtMiUyMTFzZW4lMjEyc3phJTIyJTIwd2lkdGglM0QlMjI2MDAlMjIlMjBoZWlnaHQlM0QlMjI0NTAlMjIlMjBzdHlsZSUzRCUyMmJvcmRlciUzQTAlM0IlMjIlMjBhbGxvd2Z1bGxzY3JlZW4lM0QlMjIlMjIlMjBsb2FkaW5nJTNEJTIybGF6eSUyMiUyMHJlZmVycmVycG9saWN5JTNEJTIybm8tcmVmZXJyZXItd2hlbi1kb3duZ3JhZGUlMjIlM0UlM0MlMkZpZnJhbWUlM0U=” css_animation=”fadeInUp”][/vc_column][/vc_row][vc_section css=”.vc_custom_1566648153872{background-color: #ffffff !important;}”][vc_row evenz_container=”1″ gap=”30″ parallax=”content-moving” parallax_image=”637″ parallax_speed_bg=”0.3″ el_id=”sticky-blog”][vc_column evenz_section=”true” evenz_stickycolumn=”true” el_id=”sidebarStick”][/vc_column][/vc_row][/vc_section]
URL:https://kiweb.co.za/event/master-class-for-executive-secretaries-and-pas-2025/
CATEGORIES:Conference
ATTACH;FMTTYPE=image/jpeg:https://kiweb.co.za/wp-content/uploads/2024/09/ExecSec-page.jpg
END:VEVENT
END:VCALENDAR