BEGIN:VCALENDAR
VERSION:2.0
PRODID:-//Kiweb - ECPv6.15.20//NONSGML v1.0//EN
CALSCALE:GREGORIAN
METHOD:PUBLISH
X-WR-CALNAME:Kiweb
X-ORIGINAL-URL:https://kiweb.co.za
X-WR-CALDESC:Events for Kiweb
REFRESH-INTERVAL;VALUE=DURATION:PT1H
X-Robots-Tag:noindex
X-PUBLISHED-TTL:PT1H
BEGIN:VTIMEZONE
TZID:UTC
BEGIN:STANDARD
TZOFFSETFROM:+0000
TZOFFSETTO:+0000
TZNAME:UTC
DTSTART:20240101T000000
END:STANDARD
END:VTIMEZONE
BEGIN:VEVENT
DTSTART;TZID=UTC:20251119T080000
DTEND;TZID=UTC:20251120T160000
DTSTAMP:20260419T174850
CREATED:20250921T133303Z
LAST-MODIFIED:20250921T133303Z
UID:4677-1763539200-1763654400@kiweb.co.za
SUMMARY:CX & Marketing Conference 2025
DESCRIPTION:[vc_row][vc_column][vc_column_text]\nIn today’s competitive and experience-driven economy\, customers expect more than just products—they expect connection\, purpose\, relevance\, and consistent value. The Customer Centricity & Marketing Innovation Conference 2025\, a key event in the field\, also highlights the cx marketing conference as a high-impact two-day gathering designed to equip marketing and CX leaders with the strategies\, tools\, and insights needed to thrive in this dynamic environment. \nThis conference will explore the intersection of marketing innovation and customer-centric design—providing actionable guidance on how to humanise experiences\, operationalise empathy\, and lead transformation in the digital age. Featuring real-world case studies\, expert keynotes\, and interactive discussions\, this event will help organisations reshape their customer strategies\, accelerate innovation\, and turn loyalty into lasting advocacy. \nJoin us for the cx marketing conference where industry leaders will share their insights. \nWhy This Event? \n\nStay Ahead of Trends: Gain early insights into the future of customer engagement\, from AI-powered personalisation to emotional analytics and marketing innovation labs.\nLearn from Industry Leaders: Hear directly from top marketing and CX professionals shaping South Africa’s and the globe’s customer-centric future.\nBridge Silos\, Spark Innovation: Discover how to align marketing\, CX\, product\, and employee experience teams around shared goals and customer obsession.\nEnhance Practical Capabilities: Walk away with frameworks\, methodologies\, and case studies you can immediately apply to build trust\, loyalty\, and market advantage.\nBe Inspired by Purpose: Explore how sustainable and purpose-driven brands are connecting more deeply with customers in an age of conscious consumerism.\nBuild Valuable Connections: Join a curated community of strategic leaders\, innovators\, and changemakers all working to redefine the customer-brand relationship.\n\n[/vc_column_text][/vc_column][/vc_row][vc_row][vc_column][/vc_column][/vc_row][vc_row][vc_column]			\n				\n							Location\n						\n		[vc_gmaps link=”#E-8_JTNDaWZyYW1lJTIwc3JjJTNEJTIyaHR0cHMlM0ElMkYlMkZ3d3cuZ29vZ2xlLmNvbSUyRm1hcHMlMkZlbWJlZCUzRnBiJTNEJTIxMW0xOCUyMTFtMTIlMjExbTMlMjExZDM1ODMuMDAyMDMwMzUxNjU2JTIxMmQyOC4wNTM4MTE4NzkwMzE3NDUlMjEzZC0yNi4wOTg4NTI0MDA3MzExNTglMjEybTMlMjExZjAlMjEyZjAlMjEzZjAlMjEzbTIlMjExaTEwMjQlMjEyaTc2OCUyMTRmMTMuMSUyMTNtMyUyMTFtMiUyMTFzMHgxZTk1NzMyZjNjOTQ3MmNkJTI1M0EweDYzNGNlM2U3OWM5ODY1ZWYlMjEyc1RoZSUyNTIwTWFzbG93JTI1MjBIb3RlbCUyNTIwU2FuZHRvbiUyMTVlMCUyMTNtMiUyMTFzZW4lMjEyc3phJTIxNHYxNzU4MTA0ODQ1MzM2JTIxNW0yJTIxMXNlbiUyMTJzemElMjIlMjB3aWR0aCUzRCUyMjYwMCUyMiUyMGhlaWdodCUzRCUyMjQ1MCUyMiUyMHN0eWxlJTNEJTIyYm9yZGVyJTNBMCUzQiUyMiUyMGFsbG93ZnVsbHNjcmVlbiUzRCUyMiUyMiUyMGxvYWRpbmclM0QlMjJsYXp5JTIyJTIwcmVmZXJyZXJwb2xpY3klM0QlMjJuby1yZWZlcnJlci13aGVuLWRvd25ncmFkZSUyMiUzRSUzQyUyRmlmcmFtZSUzRQ==” css_animation=”fadeInUp”][vc_column_text][/vc_column_text][/vc_column][/vc_row][vc_section css=”.vc_custom_1566648153872{background-color: #ffffff !important;}”][vc_row evenz_container=”1″ gap=”30″ parallax=”content-moving” parallax_image=”637″ parallax_speed_bg=”0.3″ el_id=”sticky-blog”][vc_column evenz_section=”true” evenz_stickycolumn=”true” el_id=”sidebarStick”][/vc_column][/vc_row][/vc_section]
URL:https://kiweb.co.za/event/cx-marketing-conference-2025/
CATEGORIES:Conference
ATTACH;FMTTYPE=image/jpeg:https://kiweb.co.za/wp-content/uploads/2025/07/CX-Marketing-page.jpg
END:VEVENT
END:VCALENDAR