BEGIN:VCALENDAR
VERSION:2.0
PRODID:-//Kiweb - ECPv6.15.20//NONSGML v1.0//EN
CALSCALE:GREGORIAN
METHOD:PUBLISH
X-WR-CALNAME:Kiweb
X-ORIGINAL-URL:https://kiweb.co.za
X-WR-CALDESC:Events for Kiweb
REFRESH-INTERVAL;VALUE=DURATION:PT1H
X-Robots-Tag:noindex
X-PUBLISHED-TTL:PT1H
BEGIN:VTIMEZONE
TZID:UTC
BEGIN:STANDARD
TZOFFSETFROM:+0000
TZOFFSETTO:+0000
TZNAME:UTC
DTSTART:20240101T000000
END:STANDARD
END:VTIMEZONE
BEGIN:VEVENT
DTSTART;TZID=UTC:20250717T080000
DTEND;TZID=UTC:20250718T160000
DTSTAMP:20260419T231215
CREATED:20250921T133104Z
LAST-MODIFIED:20250921T133104Z
UID:4671-1752739200-1752854400@kiweb.co.za
SUMMARY:Recruitment\, Selection and Talent management in an AI world
DESCRIPTION:[vc_row][vc_column][vc_column_text]\nAre you responsible for recruiting and selecting the best people for your organisation? Learn the interviewing skills that experienced managers use to make sound recruitment decisions. This programme will equip you with the skills to practice efficient and effective recruitment habits which targets the correct candidates. Time will be spent on conducting meaningful interviews and use other assessment tools for selecting the best candidate. Learn to identify warning signs and red flags. Practical examples and actual case studies will expose you to real-life recruiting scenarios. \nThe targeted selection interviewing is a method used to evaluate candidates’ competencies based on their past behaviour in order to hire the right people for a given job. The target selection process is favourable by many employers who opt for the concept that past performance (& behaviour) predicts future performance – the targeted selection model of interviewing is well known method these days and used by many recruiters. \nThe series of the target selection questions are designed well before the job interview and are chosen per a given job requirement.  Selecting the correct staff remains one of the biggest challenges in business. Interviewing is a skill needed by many professionals.  Many managers and Human Resources professionals need to interview prospective candidates for jobs\, others interview internal and external customers in order to get relevant information.  Interviewing is in essence a communication skill – we train our learners to become excellent listeners and observers to make any interviewing (and negotiation) process succeed during this two-day programme.  Many practical exercises ensure that knowledge is reinforced to ensure that both skill and knowledge is acquired.. \nYour comprehensive programme includes:  \n\nAvoid wasting time on unproductive interviews by learning how to accurately read between the lines of a CV and dismissing unqualified candidates\nGaining a list of revealing\, targeted questions that you should use during interviews to get to the bottom of any areas of concern\nDiscovering how to use active listening and questioning as a “sifting” tool\nUncovering the “secrets” of reading body language and spotting verbal “tells” that indicate if the candidate is telling the truth – or bluffing\nLearn how to sum up a candidate’s personality from their attitude in the interview that will allow you to assess whether they will fit into your team\nDiscover proven interviewing techniques to ensure that the candidate reveals more about themselves than they maybe planned to\nBrainstorm additional ways of selection that will complement your interview in order to ensure that the correct candidate gets chosen\nLook into successful ways to make the final decision when you are faced with several qualified candidates to choose between\n\n[/vc_column_text][/vc_column][/vc_row][vc_row][vc_column]			\n				\n							Speakers\n						\n		\n			\n				\n											\n							\n								\n	\n		\n					\n		 \n	\n	\n		\n			Business Development & Marketing Director of KIWEB Events		 \n		Nicholas Geza\n				\n					 \n			\n\n							\n						\n										\n			\n			[/vc_column][/vc_row][vc_row][vc_column]			\n				\n							Location\n						\n		[vc_gmaps link=”#E-8_JTNDaWZyYW1lJTIwc3JjJTNEJTIyaHR0cHMlM0ElMkYlMkZ3d3cuZ29vZ2xlLmNvbSUyRm1hcHMlMkZlbWJlZCUzRnBiJTNEJTIxMW0xNCUyMTFtOCUyMTFtMyUyMTFkMTQzMzIuMDA3NTU3ODI4NDI1JTIxMmQyOC4wNTg2ODMlMjEzZC0yNi4wOTg4NTclMjEzbTIlMjExaTEwMjQlMjEyaTc2OCUyMTRmMTMuMSUyMTNtMyUyMTFtMiUyMTFzMHgxZTk1NzMyZjNjOTQ3MmNkJTI1M0EweDYzNGNlM2U3OWM5ODY1ZWYlMjEyc1RoZSUyNTIwTWFzbG93JTI1MjBIb3RlbCUyNTIwU2FuZHRvbiUyMTVlMCUyMTNtMiUyMTFzZW4lMjEyc3VzJTIxNHYxNzAyMjEyOTE5MjIzJTIxNW0yJTIxMXNlbiUyMTJzdXMlMjIlMjB3aWR0aCUzRCUyMjYwMCUyMiUyMGhlaWdodCUzRCUyMjQ1MCUyMiUyMHN0eWxlJTNEJTIyYm9yZGVyJTNBMCUzQiUyMiUyMGFsbG93ZnVsbHNjcmVlbiUzRCUyMiUyMiUyMGxvYWRpbmclM0QlMjJsYXp5JTIyJTIwcmVmZXJyZXJwb2xpY3klM0QlMjJuby1yZWZlcnJlci13aGVuLWRvd25ncmFkZSUyMiUzRSUzQyUyRmlmcmFtZSUzRQ==” css_animation=”fadeInUp”][vc_column_text]The Maslow Hotel\nin Sandton\, Johannesburg[/vc_column_text][/vc_column][/vc_row][vc_section css=”.vc_custom_1566648153872{background-color: #ffffff !important;}”][vc_row evenz_container=”1″ gap=”30″ parallax=”content-moving” parallax_image=”637″ parallax_speed_bg=”0.3″ el_id=”sticky-blog”][vc_column evenz_section=”true” evenz_stickycolumn=”true” el_id=”sidebarStick”]			\n				\n							Past Sponsors\n						\n		[vc_row_inner gap=”10″][vc_column_inner width=”1/2″][vc_single_image image=”1392″ img_size=”full” alignment=”center” onclick=”custom_link” img_link_target=”_blank” css_animation=”fadeIn” link=”http://qantumthemes.com”][/vc_column_inner][vc_column_inner width=”1/2″][vc_single_image image=”1395″ img_size=”full” alignment=”center” onclick=”custom_link” img_link_target=”_blank” css_animation=”fadeIn” link=”http://qantumthemes.com”][/vc_column_inner][/vc_row_inner]			\n		[vc_row_inner gap=”10″][vc_column_inner width=”1/2″][vc_single_image image=”1394″ img_size=”full” alignment=”center” onclick=”custom_link” img_link_target=”_blank” css_animation=”fadeIn” link=”http://qantumthemes.com”][/vc_column_inner][vc_column_inner width=”1/2″][vc_single_image image=”1393″ img_size=”full” alignment=”center” onclick=”custom_link” img_link_target=”_blank” css_animation=”fadeIn” link=”http://qantumthemes.com”][/vc_column_inner][/vc_row_inner]			\n		[/vc_column][/vc_row][/vc_section]
URL:https://kiweb.co.za/event/recruitment-selection-and-talent-management-in-an-ai-world/
CATEGORIES:Conference
ATTACH;FMTTYPE=image/jpeg:https://kiweb.co.za/wp-content/uploads/2025/03/Recruit-page.jpg
END:VEVENT
BEGIN:VEVENT
DTSTART;TZID=UTC:20250723T080000
DTEND;TZID=UTC:20250724T160000
DTSTAMP:20260419T231215
CREATED:20250921T133103Z
LAST-MODIFIED:20250921T133103Z
UID:4670-1753257600-1753372800@kiweb.co.za
SUMMARY:Marketers Connect Conference 2025
DESCRIPTION:[vc_row][vc_column][vc_column_text]\nThe Marketers Connect Conference 2025 is your gateway to the future of marketing innovation\, set to take place on 23-24 July 2025 in Sandton\, Johannesburg. This dynamic two-day event brings together industry leaders\, forward-thinking marketers\, and cutting-edge technology experts to explore the latest trends\, tools\, and strategies shaping the marketing landscape. Attendees will gain practical insights and actionable ideas to drive creativity\, efficiency\, and impact in their marketing campaigns. \nThe conference offers a platform for networking\, knowledge sharing\, and collaboration\, featuring thought-provoking keynotes\, interactive workshops\, and panel discussions on topics like generative AI\, predictive analytics\, sustainability\, and immersive technologies. \nWho Should Attend? \nMarketers Connect Conference 2025 is designed for professionals who want to stay ahead of the curve and leverage emerging trends to excel in their roles: \n\nMarketing Professionals: From strategists to brand managers\, gain insights into the latest tools and techniques to optimize campaigns.\nContent Creators: Learn how to leverage AI and data-driven storytelling for engaging and personalized content.\nCMOs and Marketing Executives: Discover how to integrate innovative strategies into organizational goals for long-term growth.\nDigital Marketers: Dive deep into social commerce\, influencer marketing\, and privacy-first approaches to stay competitive.\nTech Enthusiasts: Explore the impact of blockchain\, AR\, VR\, and AI on modern marketing practices.\nSustainability Advocates: Align your marketing efforts with green initiatives and build eco-conscious brands.\nData Analysts and AI Specialists: Discover new ways to use analytics\, behavioral science\, and AI to predict trends and influence consumer behavior.\nEntrepreneurs and Business Owners: Learn how to create purpose-driven campaigns\, engage customers\, and build lasting brand loyalty.\n\nIf you’re passionate about marketing innovation and eager to connect with industry pioneers\, this conference is for you![/vc_column_text][/vc_column][/vc_row][vc_row][vc_column]			\n				\n							Speakers\n						\n		\n			\n				\n											\n							\n								\n	\n		\n					\n		 \n	\n	\n		\n			Business Development & Marketing Director of KIWEB Events		 \n		Nicholas Geza\n				\n					 \n			\n\n							\n						\n										\n			\n			[/vc_column][/vc_row][vc_row][vc_column]			\n				\n							Location\n						\n		[vc_gmaps link=”#E-8_JTNDaWZyYW1lJTIwc3JjJTNEJTIyaHR0cHMlM0ElMkYlMkZ3d3cuZ29vZ2xlLmNvbSUyRm1hcHMlMkZlbWJlZCUzRnBiJTNEJTIxMW0xOCUyMTFtMTIlMjExbTMlMjExZDM1ODIuNzMwNTM2Nzc4MzU2JTIxMmQyOC4wNTYyMzU0NzYxNjM5MDIlMjEzZC0yNi4xMDc3MTM0NjAwNTI3NCUyMTJtMyUyMTFmMCUyMTJmMCUyMTNmMCUyMTNtMiUyMTFpMTAyNCUyMTJpNzY4JTIxNGYxMy4xJTIxM20zJTIxMW0yJTIxMXMweDFlOTU3MzJiOThiMTZhMzUlMjUzQTB4ZGE3ZDQ0Mzc1OGUxMzYxNiUyMTJzUmFkaXNzb24lMjUyMEJsdSUyNTIwR2F1dHJhaW4lMjUyMEhvdGVsJTI1MkMlMjUyMFNhbmR0b24lMjUyMEpvaGFubmVzYnVyZyUyMTVlMCUyMTNtMiUyMTFzZW4lMjEyc3phJTIxNHYxNzUzMTAwNzcxNzQxJTIxNW0yJTIxMXNlbiUyMTJzemElMjIlMjB3aWR0aCUzRCUyMjYwMCUyMiUyMGhlaWdodCUzRCUyMjQ1MCUyMiUyMHN0eWxlJTNEJTIyYm9yZGVyJTNBMCUzQiUyMiUyMGFsbG93ZnVsbHNjcmVlbiUzRCUyMiUyMiUyMGxvYWRpbmclM0QlMjJsYXp5JTIyJTIwcmVmZXJyZXJwb2xpY3klM0QlMjJuby1yZWZlcnJlci13aGVuLWRvd25ncmFkZSUyMiUzRSUzQyUyRmlmcmFtZSUzRQ==” css_animation=”fadeInUp”][vc_column_text]Radisson Blu Gautrain Hotel\nin Sandton\, Johannesburg[/vc_column_text][/vc_column][/vc_row][vc_section css=”.vc_custom_1566648153872{background-color: #ffffff !important;}”][vc_row evenz_container=”1″ gap=”30″ parallax=”content-moving” parallax_image=”637″ parallax_speed_bg=”0.3″ el_id=”sticky-blog”][vc_column evenz_section=”true” evenz_stickycolumn=”true” el_id=”sidebarStick”]			\n				\n							Past Sponsors\n						\n		[vc_row_inner gap=”10″][vc_column_inner width=”1/2″][vc_single_image image=”1392″ img_size=”full” alignment=”center” onclick=”custom_link” img_link_target=”_blank” css_animation=”fadeIn” link=”http://qantumthemes.com”][/vc_column_inner][vc_column_inner width=”1/2″][vc_single_image image=”1395″ img_size=”full” alignment=”center” onclick=”custom_link” img_link_target=”_blank” css_animation=”fadeIn” link=”http://qantumthemes.com”][/vc_column_inner][/vc_row_inner]			\n		[vc_row_inner gap=”10″][vc_column_inner width=”1/2″][vc_single_image image=”1394″ img_size=”full” alignment=”center” onclick=”custom_link” img_link_target=”_blank” css_animation=”fadeIn” link=”http://qantumthemes.com”][/vc_column_inner][vc_column_inner width=”1/2″][vc_single_image image=”1393″ img_size=”full” alignment=”center” onclick=”custom_link” img_link_target=”_blank” css_animation=”fadeIn” link=”http://qantumthemes.com”][/vc_column_inner][/vc_row_inner]			\n		[/vc_column][/vc_row][/vc_section]
URL:https://kiweb.co.za/event/marketers-connect-conference-2025/
CATEGORIES:Conference
ATTACH;FMTTYPE=image/webp:https://kiweb.co.za/wp-content/uploads/2025/02/OD-page-1170x566-3.webp
END:VEVENT
END:VCALENDAR