BEGIN:VCALENDAR
VERSION:2.0
PRODID:-//Kiweb - ECPv6.15.20//NONSGML v1.0//EN
CALSCALE:GREGORIAN
METHOD:PUBLISH
X-ORIGINAL-URL:https://kiweb.co.za
X-WR-CALDESC:Events for Kiweb
REFRESH-INTERVAL;VALUE=DURATION:PT1H
X-Robots-Tag:noindex
X-PUBLISHED-TTL:PT1H
BEGIN:VTIMEZONE
TZID:UTC
BEGIN:STANDARD
TZOFFSETFROM:+0000
TZOFFSETTO:+0000
TZNAME:UTC
DTSTART:20240101T000000
END:STANDARD
END:VTIMEZONE
BEGIN:VEVENT
DTSTART;TZID=UTC:20251203T080000
DTEND;TZID=UTC:20251204T160000
DTSTAMP:20260419T144705
CREATED:20250921T132854Z
LAST-MODIFIED:20250921T132854Z
UID:4662-1764748800-1764864000@kiweb.co.za
SUMMARY:Payments Evolution & Innovation Conference 2025
DESCRIPTION:[vc_row][vc_column][vc_column_text]\nThe Payments Evolution & Innovation Conference\, taking place on 03 & 04 December 2025 in Sandton\, Johannesburg\, is the premier event for exploring cutting-edge innovations and strategies revolutionizing accounts payable (AP) and payment systems. This conference brings together industry leaders\, tech innovators\, and financial experts to delve into transformative technologies shaping the future of payments\, from AI and blockchain to sustainability and compliance. With a focus on real-world applications\, the Payments Evolution & Innovation Conference offers actionable insights and tools to optimize your financial operations in a rapidly evolving digital landscape. \nWho Should Attend?\nThis event is designed for professionals who want to stay ahead in the ever-changing payment technology ecosystem. Key attendees include: \n\nFinance Leaders: CFOs\, finance directors\, and controllers aiming to streamline financial processes and enhance operational efficiency.\nAccounts Payable Professionals: AP managers\, analysts\, and team leads looking for innovative tools to optimize workflows and manage payments securely.\nTechnology Innovators: Tech leaders\, CIOs\, and developers seeking to integrate the latest payment technologies into their platforms.\nCompliance Officers: Professionals tasked with navigating global regulatory changes and ensuring compliance in payment processes.\nProcurement and Supply Chain Experts: Those focused on vendor management\, payment transparency\, and building sustainable partnerships.\nBusiness Owners and Entrepreneurs: Individuals interested in adopting cutting-edge financial solutions to improve cash flow and payment flexibility.\n\nWith its diverse line-up of sessions\, interactive discussions\, and networking opportunities\, the Payments Evolution & Innovation Conference 2025 is a must-attend event for anyone looking to redefine accounts payable and payment operations in the digital age.[/vc_column_text][/vc_column][/vc_row][vc_row][vc_column][/vc_column][/vc_row][vc_row][vc_column]			\n		[/vc_column][/vc_row][vc_row][vc_column]		\n							Location\n						\n		[vc_gmaps link=”#E-8_JTNDaWZyYW1lJTIwc3JjJTNEJTIyaHR0cHMlM0ElMkYlMkZ3d3cuZ29vZ2xlLmNvbSUyRm1hcHMlMkZlbWJlZCUzRnBiJTNEJTIxMW0xOCUyMTFtMTIlMjExbTMlMjExZDM1ODMuMDAyMDI4NTQ1NDcyNSUyMTJkMjguMDU2MTA3ODc1MDc5MzUyJTIxM2QtMjYuMDk4ODUyNDU5NjkxMDIlMjEybTMlMjExZjAlMjEyZjAlMjEzZjAlMjEzbTIlMjExaTEwMjQlMjEyaTc2OCUyMTRmMTMuMSUyMTNtMyUyMTFtMiUyMTFzMHgxZTk1NzMyZjNjOTQ3MmNkJTI1M0EweDYzNGNlM2U3OWM5ODY1ZWYlMjEyc1RoZSUyNTIwTWFzbG93JTI1MjBIb3RlbCUyNTIwU2FuZHRvbiUyMTVlMCUyMTNtMiUyMTFzZW4lMjEyc3phJTIxNHYxNzU4MTA2NTEwNDAzJTIxNW0yJTIxMXNlbiUyMTJzemElMjIlMjB3aWR0aCUzRCUyMjYwMCUyMiUyMGhlaWdodCUzRCUyMjQ1MCUyMiUyMHN0eWxlJTNEJTIyYm9yZGVyJTNBMCUzQiUyMiUyMGFsbG93ZnVsbHNjcmVlbiUzRCUyMiUyMiUyMGxvYWRpbmclM0QlMjJsYXp5JTIyJTIwcmVmZXJyZXJwb2xpY3klM0QlMjJuby1yZWZlcnJlci13aGVuLWRvd25ncmFkZSUyMiUzRSUzQyUyRmlmcmFtZSUzRQ==” css_animation=”fadeInUp”][/vc_column][/vc_row][vc_section css=”.vc_custom_1566648153872{background-color: #ffffff !important;}”][vc_row evenz_container=”1″ gap=”30″ parallax=”content-moving” parallax_image=”637″ parallax_speed_bg=”0.3″ el_id=”sticky-blog”][vc_column evenz_section=”true” evenz_stickycolumn=”true” el_id=”sidebarStick”][/vc_column][/vc_row][/vc_section]
URL:https://kiweb.co.za/event/payments-evolution-innovation-conference-2025/
CATEGORIES:Conference
ATTACH;FMTTYPE=image/webp:https://kiweb.co.za/wp-content/uploads/2024/02/PAY-Tech-page-1170x566-1.webp
END:VEVENT
END:VCALENDAR